BEGIN:VCALENDAR
VERSION:2.0
PRODID:-//PISO - ECPv6.15.20//NONSGML v1.0//EN
CALSCALE:GREGORIAN
METHOD:PUBLISH
X-WR-CALNAME:PISO
X-ORIGINAL-URL:https://piso.be
X-WR-CALDESC:Evenementen voor PISO
REFRESH-INTERVAL;VALUE=DURATION:PT1H
X-Robots-Tag:noindex
X-PUBLISHED-TTL:PT1H
BEGIN:VTIMEZONE
TZID:Europe/Paris
BEGIN:DAYLIGHT
TZOFFSETFROM:+0100
TZOFFSETTO:+0200
TZNAME:CEST
DTSTART:20240331T010000
END:DAYLIGHT
BEGIN:STANDARD
TZOFFSETFROM:+0200
TZOFFSETTO:+0100
TZNAME:CET
DTSTART:20241027T010000
END:STANDARD
BEGIN:DAYLIGHT
TZOFFSETFROM:+0100
TZOFFSETTO:+0200
TZNAME:CEST
DTSTART:20250330T010000
END:DAYLIGHT
BEGIN:STANDARD
TZOFFSETFROM:+0200
TZOFFSETTO:+0100
TZNAME:CET
DTSTART:20251026T010000
END:STANDARD
BEGIN:DAYLIGHT
TZOFFSETFROM:+0100
TZOFFSETTO:+0200
TZNAME:CEST
DTSTART:20260329T010000
END:DAYLIGHT
BEGIN:STANDARD
TZOFFSETFROM:+0200
TZOFFSETTO:+0100
TZNAME:CET
DTSTART:20261025T010000
END:STANDARD
END:VTIMEZONE
BEGIN:VEVENT
DTSTART;TZID=Europe/Paris:20250509T180000
DTEND;TZID=Europe/Paris:20250509T210000
DTSTAMP:20260421T204018
CREATED:20240926T071445Z
LAST-MODIFIED:20240926T071445Z
UID:10549-1746813600-1746824400@piso.be
SUMMARY:09.05.2025: Opendeurdag - avondeditie!
DESCRIPTION:Nieuw! Kom kennismaken op onze nocturne-editie !\n\nKom ontdekken\, twijfelen\, vergelijken en beleven met onze school! Tijdens de opendeurdag proef je de #pisostyle van binnenuit:\nleerkrachten en leerlingen geven uitleg over onze opleidingen en beantwoorden je vragen. Je kan handboeken\, projecten en opdrachten inkijken en onze praktijklokalen in werking zien. Ook zijn onze dames van leerlingenbegeleiding\, SODA en klaar om honderduit vragen te stellen.
URL:https://piso.be/evenement/09-05-2025-opendeurdag-avondeditie/
LOCATION:PISO Tienen\, Alexianenweg 2\, Tienen\, 3300\, België
CATEGORIES:Infomoment
ATTACH;FMTTYPE=image/jpeg:https://piso.be/wp-content/uploads/2024/09/5-1-scaled.jpg
END:VEVENT
BEGIN:VEVENT
DTSTART;TZID=Europe/Paris:20250516T180000
DTEND;TZID=Europe/Paris:20250516T213000
DTSTAMP:20260421T204018
CREATED:20240926T071710Z
LAST-MODIFIED:20250314T100850Z
UID:10552-1747418400-1747431000@piso.be
SUMMARY:16.05.2025: Piso City-run
DESCRIPTION:Het is eindelijk weer zo ver! In samenwerking met de stad Tienen organiseert PISO Tienen de derde editie van de eerder succesvolle “ PISO Tienen CiTy-Run”. Op vrijdag 16 mei heten we je van harte welkom op onze avondloop. \n\n\n\nIedereen is welkom! We starten de avondloop met een uitdaging voor de jonge lopers.\n\nNadien zijn de recreatieve en competitieve lopers aan de beurt. \n\n\nWe maken er\, samen met jou\, graag een onvergetelijke avond van! \n\n\n\nDit is de inschrijvingslink: https://inschrijving.timetorun.be/…
URL:https://piso.be/evenement/16-05-2025-piso-city-run/
LOCATION:PISO Tienen\, Alexianenweg 2\, Tienen\, 3300\, België
CATEGORIES:Activiteit
ATTACH;FMTTYPE=image/jpeg:https://piso.be/wp-content/uploads/2024/09/2-2-scaled.jpg
END:VEVENT
END:VCALENDAR