BEGIN:VCALENDAR
VERSION:2.0
PRODID:-//PISO - ECPv6.15.20//NONSGML v1.0//EN
CALSCALE:GREGORIAN
METHOD:PUBLISH
X-ORIGINAL-URL:https://piso.be
X-WR-CALDESC:Evenementen voor PISO
REFRESH-INTERVAL;VALUE=DURATION:PT1H
X-Robots-Tag:noindex
X-PUBLISHED-TTL:PT1H
BEGIN:VTIMEZONE
TZID:Europe/Paris
BEGIN:DAYLIGHT
TZOFFSETFROM:+0100
TZOFFSETTO:+0200
TZNAME:CEST
DTSTART:20220327T010000
END:DAYLIGHT
BEGIN:STANDARD
TZOFFSETFROM:+0200
TZOFFSETTO:+0100
TZNAME:CET
DTSTART:20221030T010000
END:STANDARD
BEGIN:DAYLIGHT
TZOFFSETFROM:+0100
TZOFFSETTO:+0200
TZNAME:CEST
DTSTART:20230326T010000
END:DAYLIGHT
BEGIN:STANDARD
TZOFFSETFROM:+0200
TZOFFSETTO:+0100
TZNAME:CET
DTSTART:20231029T010000
END:STANDARD
BEGIN:DAYLIGHT
TZOFFSETFROM:+0100
TZOFFSETTO:+0200
TZNAME:CEST
DTSTART:20240331T010000
END:DAYLIGHT
BEGIN:STANDARD
TZOFFSETFROM:+0200
TZOFFSETTO:+0100
TZNAME:CET
DTSTART:20241027T010000
END:STANDARD
END:VTIMEZONE
BEGIN:VEVENT
DTSTART;TZID=Europe/Paris:20230921T190000
DTEND;TZID=Europe/Paris:20230921T210000
DTSTAMP:20260425T022836
CREATED:20230906T080800Z
LAST-MODIFIED:20230912T104430Z
UID:8048-1695322800-1695330000@piso.be
SUMMARY:21.09.2023: Onthaalavond ouders nieuwe leerlingen
DESCRIPTION:School maken doen we graag samen met jullie\, de ouders. Is jouw zoon of dochter nieuw op onze school\, dan nodigen we je graag uit op onze onthaalavond  voor ouders van nieuwe leerlingen op donderdagavond 21 september. \nOnze directeur\, de SODA-coördinator  en ons ouderklankbord zullen je te woord staan. Je krijgt eveneens een extra woordje uitleg over ons digitaal leerplatform Smartschool. Na deze algemene info verdelen we jullie op in groepen en word je rondgeleid door onze school. \nAls afsluiter krijg je uiteraard ook de gelegenheid tot het stellen van persoonlijke vragen\, vergezeld door een drankje. \nWe starten de avond om 19u00 in studiezaal H. Het einde van deze infoavond is voorzien rond 21u00. \nBedankt om in te schrijven via https://forms.gle/XCwxaLjAze1hmSWx7.
URL:https://piso.be/evenement/21-09-2023-onthaalavond-ouders-nieuwe-leerlingen/
LOCATION:PISO Tienen\, Alexianenweg 2\, Tienen\, 3300\, België
END:VEVENT
END:VCALENDAR