BEGIN:VCALENDAR
VERSION:2.0
PRODID:-//PISO - ECPv6.15.20//NONSGML v1.0//EN
CALSCALE:GREGORIAN
METHOD:PUBLISH
X-WR-CALNAME:PISO
X-ORIGINAL-URL:https://piso.be
X-WR-CALDESC:Evenementen voor PISO
REFRESH-INTERVAL;VALUE=DURATION:PT1H
X-Robots-Tag:noindex
X-PUBLISHED-TTL:PT1H
BEGIN:VTIMEZONE
TZID:Europe/Paris
BEGIN:DAYLIGHT
TZOFFSETFROM:+0100
TZOFFSETTO:+0200
TZNAME:CEST
DTSTART:20220327T010000
END:DAYLIGHT
BEGIN:STANDARD
TZOFFSETFROM:+0200
TZOFFSETTO:+0100
TZNAME:CET
DTSTART:20221030T010000
END:STANDARD
BEGIN:DAYLIGHT
TZOFFSETFROM:+0100
TZOFFSETTO:+0200
TZNAME:CEST
DTSTART:20230326T010000
END:DAYLIGHT
BEGIN:STANDARD
TZOFFSETFROM:+0200
TZOFFSETTO:+0100
TZNAME:CET
DTSTART:20231029T010000
END:STANDARD
BEGIN:DAYLIGHT
TZOFFSETFROM:+0100
TZOFFSETTO:+0200
TZNAME:CEST
DTSTART:20240331T010000
END:DAYLIGHT
BEGIN:STANDARD
TZOFFSETFROM:+0200
TZOFFSETTO:+0100
TZNAME:CET
DTSTART:20241027T010000
END:STANDARD
END:VTIMEZONE
BEGIN:VEVENT
DTSTART;TZID=Europe/Paris:20230703T190000
DTEND;TZID=Europe/Paris:20230703T190000
DTSTAMP:20260425T183320
CREATED:20230512T084437Z
LAST-MODIFIED:20230629T141227Z
UID:6664-1688410800-1688410800@piso.be
SUMMARY:03.07.2023: Info-avond
DESCRIPTION:Wij heten iedereen van harte welkom op onze infoavond op maandag 3 juli. \n\nBen je op zoek naar een toffe school om in het secundair onderwijs te starten?\nWil je graag van studierichting veranderen volgend schooljaar?\nBen je op zoek naar uitleg over de modernisering van het onderwijs\, en naar de verschillende studierichtingen die er op het PISO worden ingericht?\nWil je een bezoekje brengen aan onze verschillende afdelingen?\nOf wil je gewoon kennismaken met onze school en haar werking?\n\nOnze vakleerkrachten staan je graag te woord en antwoorden op al je vragen. Inschrijvingen mogelijk! \n 
URL:https://piso.be/evenement/03-07-2023-info-avond/
ATTACH;FMTTYPE=image/jpeg:https://piso.be/wp-content/uploads/2023/05/Music-Festival-Facebook-Event-Cover.jpg
END:VEVENT
BEGIN:VEVENT
DTSTART;TZID=Europe/Paris:20230513T130000
DTEND;TZID=Europe/Paris:20230513T170000
DTSTAMP:20260425T183320
CREATED:20221213T082542Z
LAST-MODIFIED:20221213T082542Z
UID:5533-1683982800-1683997200@piso.be
SUMMARY:13.05.2023: Opendeurdag
DESCRIPTION:Zaterdag 13 mei is het groot feest op de Alexianenweg! Die dag kan  je het PISO in volle actie #pisostyle leren kennen: die dag gooien we de deuren van onze ateliers en klaslokalen wagenwijd open.  Je kan zelf aan de slag met boeiende workshops! \n\nLeerlingen zijn aan het werk\, in onze STEM-richtingen.\nSporters tonen hun topvorm\, uit het domein SPORT.\nJe kan proeven van heerlijke gerechten\, uit onze richting Voeding en Horeca.\nOok de zachte sector laat je over de muren gluren\, binnen ons domein Verzorging en Welzijn.\n\nBen je op zoek naar een toffe school om jouw carrière in het secundair onderwijs goed te starten? Wil je volgend schooljaar een nieuwe uitdaging aangaan\, en van studierichting veranderen? Of ben je gewoon benieuwd naar onze school en haar werking? Onze vakleerkrachten zullen jou met open armen ontvangen en een antwoord kunnen bieden op al jouw grote en kleine vragen! \nVERNIEUWD AANBOD vanaf schooljaar 2023-2024 \nDomein Stem\nElektromechanische technieken\nWe starten op vanaf de 3de graad Dubbele finaliteit.\nDomein Verzorging en Welzijn\nGezondheidszorg \nWe starten op vanaf de 3de graad Dubbele finaliteit.\nOpvoeding en begeleiding \nWe starten op vanaf de 3de graad Dubbele finaliteit.\nDomein Voeding en Horeca\nBiotechnologische wetenschappen \nWe starten op vanaf de 2de graad Doorstroomfinaliteit.\nHoreca \nWe starten op vanaf de 2de graad Dubbele finaliteit. \nMeer dan welkom! Er is vrije toegang\, er zijn dus geen inschrijvingen op voorhand nodig. We kijken er alvast naar uit om jouw talent te leren kennen!
URL:https://piso.be/evenement/13-05-2023-opendeurdag/
LOCATION:PISO Tienen\, Alexianenweg 2\, Tienen\, 3300\, België
END:VEVENT
END:VCALENDAR